BEGIN:VCALENDAR
VERSION:2.0
X-WR-CALNAME: Faust
PRODID:GIGPRESS 2.0 WORDPRESS PLUGIN
CALSCALE:GREGORIAN
X-WR-TIMEZONE:Etc/GMT
METHOD:PUBLISH
BEGIN:VTIMEZONE
TZID:GMT
BEGIN:STANDARD
DTSTART:20071028T010000
TZOFFSETTO:+0000
TZOFFSETFROM:+0000
END:STANDARD
END:VTIMEZONE
BEGIN:VEVENT
SUMMARY:Lionheart \, Faust
DESCRIPTION:Tour: ONLINE. 
LOCATION:Faust\, Hannover\, DE
UID:20260624T220000Z-11287-dirk@independent-intensio.de
URL:https://www.kingstar-music.com
DTSTART;VALUE=DATE-TIME;TZID=GMT:20260624T220000Z
DTEND;VALUE=DATE-TIME;TZID=GMT:20260624T220000Z
DTSTAMP:20260425T015755Z
END:VEVENT
BEGIN:VEVENT
SUMMARY:Le Fly \, Faust
DESCRIPTION:Tour: ONLINE. 
LOCATION:Faust\, Hannover\, DE
UID:20261126T230000Z-10982-dirk@independent-intensio.de
URL:https://www.kingstar-music.com
DTSTART;VALUE=DATE-TIME;TZID=GMT:20261126T230000Z
DTEND;VALUE=DATE-TIME;TZID=GMT:20261126T230000Z
DTSTAMP:20260425T015755Z
END:VEVENT
END:VCALENDAR