BEGIN:VCALENDAR
VERSION:2.0
X-WR-CALNAME: Skaters Palace
PRODID:GIGPRESS 2.0 WORDPRESS PLUGIN
CALSCALE:GREGORIAN
X-WR-TIMEZONE:Etc/GMT
METHOD:PUBLISH
BEGIN:VTIMEZONE
TZID:GMT
BEGIN:STANDARD
DTSTART:20071028T010000
TZOFFSETTO:+0000
TZOFFSETFROM:+0000
END:STANDARD
END:VTIMEZONE
BEGIN:VEVENT
SUMMARY:Blond \, Skaters Palace
DESCRIPTION:Tour: LOCAL SHOW. 
LOCATION:Skaters Palace\, Münster\, DE
UID:20260427T220000Z-10902-dirk@independent-intensio.de
URL:https://www.kingstar-music.com
DTSTART;VALUE=DATE-TIME;TZID=GMT:20260427T220000Z
DTEND;VALUE=DATE-TIME;TZID=GMT:20260427T220000Z
DTSTAMP:20260425T033552Z
END:VEVENT
BEGIN:VEVENT
SUMMARY:Megaloh \, Skaters Palace
DESCRIPTION:Tour: LOCAL SHOW. 
LOCATION:Skaters Palace\, Münster\, DE
UID:20260518T220000Z-10396-dirk@independent-intensio.de
URL:https://www.kingstar-music.com
DTSTART;VALUE=DATE-TIME;TZID=GMT:20260518T220000Z
DTEND;VALUE=DATE-TIME;TZID=GMT:20260518T220000Z
DTSTAMP:20260425T033552Z
END:VEVENT
BEGIN:VEVENT
SUMMARY:Lagwagon \, Skaters Palace
DESCRIPTION:Tour: LOCAL SHOW. 
LOCATION:Skaters Palace\, Münster\, DE
UID:20260622T220000Z-11038-dirk@independent-intensio.de
URL:https://www.kingstar-music.com
DTSTART;VALUE=DATE-TIME;TZID=GMT:20260622T220000Z
DTEND;VALUE=DATE-TIME;TZID=GMT:20260622T220000Z
DTSTAMP:20260425T033552Z
END:VEVENT
BEGIN:VEVENT
SUMMARY:Jassin \, Skaters Palace
DESCRIPTION:Tour: LOCAL SHOW. 
LOCATION:Skaters Palace\, Münster\, DE
UID:20261002T220000Z-10956-dirk@independent-intensio.de
URL:https://www.kingstar-music.com
DTSTART;VALUE=DATE-TIME;TZID=GMT:20261002T220000Z
DTEND;VALUE=DATE-TIME;TZID=GMT:20261002T220000Z
DTSTAMP:20260425T033552Z
END:VEVENT
BEGIN:VEVENT
SUMMARY:Luvre47 \, Skaters Palace
DESCRIPTION:Tour: LOCAL SHOW. 
LOCATION:Skaters Palace\, Münster\, DE
UID:20261012T220000Z-11253-dirk@independent-intensio.de
URL:https://www.kingstar-music.com
DTSTART;VALUE=DATE-TIME;TZID=GMT:20261012T220000Z
DTEND;VALUE=DATE-TIME;TZID=GMT:20261012T220000Z
DTSTAMP:20260425T033552Z
END:VEVENT
BEGIN:VEVENT
SUMMARY:Bruckner \, Skaters Palace
DESCRIPTION:Tour: LOCAL SHOW. 
LOCATION:Skaters Palace\, Münster\, DE
UID:20261016T220000Z-10915-dirk@independent-intensio.de
URL:https://www.kingstar-music.com
DTSTART;VALUE=DATE-TIME;TZID=GMT:20261016T220000Z
DTEND;VALUE=DATE-TIME;TZID=GMT:20261016T220000Z
DTSTAMP:20260425T033552Z
END:VEVENT
BEGIN:VEVENT
SUMMARY:Codefendants \, Skaters Palace
DESCRIPTION:Tour: LOCAL SHOW. 
LOCATION:Skaters Palace\, Münster\, DE
UID:20261023T220000Z-11354-dirk@independent-intensio.de
URL:https://www.kingstar-music.com
DTSTART;VALUE=DATE-TIME;TZID=GMT:20261023T220000Z
DTEND;VALUE=DATE-TIME;TZID=GMT:20261023T220000Z
DTSTAMP:20260425T033552Z
END:VEVENT
BEGIN:VEVENT
SUMMARY:Afrob & MC Ferris \, Skaters Palace
DESCRIPTION:Tour: LOCAL SHOW. 
LOCATION:Skaters Palace\, Münster\, DE
UID:20261113T230000Z-11213-dirk@independent-intensio.de
URL:https://www.kingstar-music.com
DTSTART;VALUE=DATE-TIME;TZID=GMT:20261113T230000Z
DTEND;VALUE=DATE-TIME;TZID=GMT:20261113T230000Z
DTSTAMP:20260425T033552Z
END:VEVENT
BEGIN:VEVENT
SUMMARY:Filow \, Skaters Palace
DESCRIPTION:Tour: LOCAL SHOW. 
LOCATION:Skaters Palace\, Münster\, DE
UID:20261201T230000Z-11096-dirk@independent-intensio.de
URL:https://www.kingstar-music.com
DTSTART;VALUE=DATE-TIME;TZID=GMT:20261201T230000Z
DTEND;VALUE=DATE-TIME;TZID=GMT:20261201T230000Z
DTSTAMP:20260425T033552Z
END:VEVENT
BEGIN:VEVENT
SUMMARY:Zebrahead \, Skaters Palace
DESCRIPTION:Tour: LOCAL SHOW. 
LOCATION:Skaters Palace\, Münster\, DE
UID:20261208T230000Z-10937-dirk@independent-intensio.de
URL:https://www.kingstar-music.com
DTSTART;VALUE=DATE-TIME;TZID=GMT:20261208T230000Z
DTEND;VALUE=DATE-TIME;TZID=GMT:20261208T230000Z
DTSTAMP:20260425T033552Z
END:VEVENT
BEGIN:VEVENT
SUMMARY:Anna Grey \, Skaters Palace
DESCRIPTION:Tour: LOCAL SHOW. 
LOCATION:Skaters Palace\, Münster\, DE
UID:20270305T230000Z-11215-dirk@independent-intensio.de
URL:https://www.kingstar-music.com
DTSTART;VALUE=DATE-TIME;TZID=GMT:20270305T230000Z
DTEND;VALUE=DATE-TIME;TZID=GMT:20270305T230000Z
DTSTAMP:20260425T033552Z
END:VEVENT
BEGIN:VEVENT
SUMMARY:PA Sports \, Skaters Palace
DESCRIPTION:Tour: LOCAL SHOW. 
LOCATION:Skaters Palace\, Münster\, DE
UID:20270310T230000Z-11216-dirk@independent-intensio.de
URL:https://www.kingstar-music.com
DTSTART;VALUE=DATE-TIME;TZID=GMT:20270310T230000Z
DTEND;VALUE=DATE-TIME;TZID=GMT:20270310T230000Z
DTSTAMP:20260425T033552Z
END:VEVENT
END:VCALENDAR