BEGIN:VCALENDAR
VERSION:2.0
X-WR-CALNAME: Schlachthof
PRODID:GIGPRESS 2.0 WORDPRESS PLUGIN
CALSCALE:GREGORIAN
X-WR-TIMEZONE:Etc/GMT
METHOD:PUBLISH
BEGIN:VTIMEZONE
TZID:GMT
BEGIN:STANDARD
DTSTART:20071028T010000
TZOFFSETTO:+0000
TZOFFSETFROM:+0000
END:STANDARD
END:VTIMEZONE
BEGIN:VEVENT
SUMMARY:Touché Amoré \, Schlachthof
DESCRIPTION:Tour: ONLINE. 
LOCATION:Schlachthof\, Wiesbaden\, DE
UID:20260621T220000Z-10865-dirk@independent-intensio.de
URL:https://www.kingstar-music.com
DTSTART;VALUE=DATE-TIME;TZID=GMT:20260621T220000Z
DTEND;VALUE=DATE-TIME;TZID=GMT:20260621T220000Z
DTSTAMP:20260425T015101Z
END:VEVENT
BEGIN:VEVENT
SUMMARY:The Devil Wears Prada \, Schlachthof
DESCRIPTION:Tour: ONLINE. 
LOCATION:Schlachthof\, Wiesbaden\, DE
UID:20261007T220000Z-10961-dirk@independent-intensio.de
URL:https://www.kingstar-music.com
DTSTART;VALUE=DATE-TIME;TZID=GMT:20261007T220000Z
DTEND;VALUE=DATE-TIME;TZID=GMT:20261007T220000Z
DTSTAMP:20260425T015101Z
END:VEVENT
BEGIN:VEVENT
SUMMARY:Haller \, Schlachthof
DESCRIPTION:Tour: ONLINE. 
LOCATION:Schlachthof\, Wiesbaden\, DE
UID:20261202T230000Z-11341-dirk@independent-intensio.de
URL:https://www.kingstar-music.com
DTSTART;VALUE=DATE-TIME;TZID=GMT:20261202T230000Z
DTEND;VALUE=DATE-TIME;TZID=GMT:20261202T230000Z
DTSTAMP:20260425T015101Z
END:VEVENT
BEGIN:VEVENT
SUMMARY:Le Fly \, Schlachthof
DESCRIPTION:Tour: ONLINE. 
LOCATION:Schlachthof\, Wiesbaden\, DE
UID:20261209T230000Z-10987-dirk@independent-intensio.de
URL:https://www.kingstar-music.com
DTSTART;VALUE=DATE-TIME;TZID=GMT:20261209T230000Z
DTEND;VALUE=DATE-TIME;TZID=GMT:20261209T230000Z
DTSTAMP:20260425T015101Z
END:VEVENT
END:VCALENDAR