BEGIN:VCALENDAR
VERSION:2.0
X-WR-CALNAME: Touché Amoré
PRODID:GIGPRESS 2.0 WORDPRESS PLUGIN
CALSCALE:GREGORIAN
X-WR-TIMEZONE:Etc/GMT
METHOD:PUBLISH
BEGIN:VTIMEZONE
TZID:GMT
BEGIN:STANDARD
DTSTART:20071028T010000
TZOFFSETTO:+0000
TZOFFSETFROM:+0000
END:STANDARD
END:VTIMEZONE
BEGIN:VEVENT
SUMMARY:Touché Amoré \, Kantine
DESCRIPTION:Tour: LOCAL SHOW. 
LOCATION:Kantine\, Neusser Landstraße 2\, Köln\, DE
UID:20260611T220000Z-10863-dirk@independent-intensio.de
URL:https://www.kingstar-music.com
DTSTART;VALUE=DATE-TIME;TZID=GMT:20260611T220000Z
DTEND;VALUE=DATE-TIME;TZID=GMT:20260611T220000Z
DTSTAMP:20260425T033654Z
END:VEVENT
BEGIN:VEVENT
SUMMARY:Touché Amoré \, Berlin Breakdown
DESCRIPTION:Tour: ONLINE. 
LOCATION:Berlin Breakdown\, Berlin\, DE
UID:20260612T220000Z-10867-dirk@independent-intensio.de
URL:https://www.kingstar-music.com
DTSTART;VALUE=DATE-TIME;TZID=GMT:20260612T220000Z
DTEND;VALUE=DATE-TIME;TZID=GMT:20260612T220000Z
DTSTAMP:20260425T033654Z
END:VEVENT
BEGIN:VEVENT
SUMMARY:Touché Amoré \, Fabrik
DESCRIPTION:Tour: LOCAL SHOW. 
LOCATION:Fabrik\, Hamburg\, DE
UID:20260613T220000Z-10864-dirk@independent-intensio.de
URL:https://www.kingstar-music.com
DTSTART;VALUE=DATE-TIME;TZID=GMT:20260613T220000Z
DTEND;VALUE=DATE-TIME;TZID=GMT:20260613T220000Z
DTSTAMP:20260425T033654Z
END:VEVENT
BEGIN:VEVENT
SUMMARY:Touché Amoré \, Backstage
DESCRIPTION:Tour: ONLINE. 
LOCATION:Backstage\, München\, DE
UID:20260620T220000Z-10866-dirk@independent-intensio.de
URL:https://www.kingstar-music.com
DTSTART;VALUE=DATE-TIME;TZID=GMT:20260620T220000Z
DTEND;VALUE=DATE-TIME;TZID=GMT:20260620T220000Z
DTSTAMP:20260425T033654Z
END:VEVENT
BEGIN:VEVENT
SUMMARY:Touché Amoré \, Schlachthof
DESCRIPTION:Tour: ONLINE. 
LOCATION:Schlachthof\, Wiesbaden\, DE
UID:20260621T220000Z-10865-dirk@independent-intensio.de
URL:https://www.kingstar-music.com
DTSTART;VALUE=DATE-TIME;TZID=GMT:20260621T220000Z
DTEND;VALUE=DATE-TIME;TZID=GMT:20260621T220000Z
DTSTAMP:20260425T033654Z
END:VEVENT
END:VCALENDAR